BEGIN:VCALENDAR
VERSION:2.0
PRODID:-//Cisl FVG - ECPv6.15.20//NONSGML v1.0//EN
CALSCALE:GREGORIAN
METHOD:PUBLISH
X-ORIGINAL-URL:https://www.cislfvg.it
X-WR-CALDESC:Eventi per Cisl FVG
REFRESH-INTERVAL;VALUE=DURATION:PT1H
X-Robots-Tag:noindex
X-PUBLISHED-TTL:PT1H
BEGIN:VTIMEZONE
TZID:Europe/Rome
BEGIN:DAYLIGHT
TZOFFSETFROM:+0100
TZOFFSETTO:+0200
TZNAME:CEST
DTSTART:20210328T010000
END:DAYLIGHT
BEGIN:STANDARD
TZOFFSETFROM:+0200
TZOFFSETTO:+0100
TZNAME:CET
DTSTART:20211031T010000
END:STANDARD
BEGIN:DAYLIGHT
TZOFFSETFROM:+0100
TZOFFSETTO:+0200
TZNAME:CEST
DTSTART:20220327T010000
END:DAYLIGHT
BEGIN:STANDARD
TZOFFSETFROM:+0200
TZOFFSETTO:+0100
TZNAME:CET
DTSTART:20221030T010000
END:STANDARD
BEGIN:DAYLIGHT
TZOFFSETFROM:+0100
TZOFFSETTO:+0200
TZNAME:CEST
DTSTART:20230326T010000
END:DAYLIGHT
BEGIN:STANDARD
TZOFFSETFROM:+0200
TZOFFSETTO:+0100
TZNAME:CET
DTSTART:20231029T010000
END:STANDARD
END:VTIMEZONE
BEGIN:VEVENT
DTSTART;TZID=Europe/Rome:20220119T090000
DTEND;TZID=Europe/Rome:20220119T170000
DTSTAMP:20260420T075432
CREATED:20220110T144430Z
LAST-MODIFIED:20220110T144430Z
UID:16399-1642582800-1642611600@www.cislfvg.it
SUMMARY:CONGRESSO CISL UNIVERSITA'
DESCRIPTION:
URL:https://www.cislfvg.it/event/congresso-cisl-universita/
LOCATION:Da definire
CATEGORIES:Congresso
ATTACH;FMTTYPE=image/jpeg:https://www.cislfvg.it/wp-content/uploads/2021/03/classroom-2093744_1920.jpg
END:VEVENT
END:VCALENDAR